BEGIN:VCALENDAR
VERSION:2.0
PRODID:-//Tukios.com/
BEGIN:VEVENT
UID:e50afc71-b0ae-4708-b269-750e17fb3f1a@www.gasshaney.com
DTSTAMP:20260423T192035Z
DTSTART:20260427T153000Z
DTEND:20260427T163000Z
SUMMARY:Funeral Service
DESCRIPTION:
URL:https://www.gasshaney.com/obituaries/sylvia-b-christensen
LOCATION: 2200 25th Street  Columbus NE 68601
GEO:41.440788;-97.3548856
END:VEVENT
END:VCALENDAR