BEGIN:VCALENDAR
VERSION:2.0
PRODID:-//Tukios.com/
BEGIN:VEVENT
UID:aeb187c8-dfce-4f8d-8b7d-38c6e55933f5@www.gasshaney.com
DTSTAMP:20260423T192035Z
DTSTART:20260427T143000Z
DTEND:20260427T153000Z
SUMMARY:Visitation
DESCRIPTION:
URL:https://www.gasshaney.com/obituaries/sylvia-b-christensen
LOCATION: 2200 25th Street  Columbus NE 68601
GEO:41.440788;-97.3548856
END:VEVENT
END:VCALENDAR