BEGIN:VCALENDAR
VERSION:2.0
PRODID:-//Tukios.com/
BEGIN:VEVENT
UID:b31b165e-2c7f-45b1-abf3-bb8c9e364108@www.gasshaney.com
DTSTAMP:20260423T191626Z
DTSTART:20260426T210000Z
DTEND:20260426T230000Z
SUMMARY:Visitation
DESCRIPTION:
URL:https://www.gasshaney.com/obituaries/sylvia-b-christensen
LOCATION:Gass Haney Funeral Home 2109 14th St  Columbus NE 68601
GEO:41.4298824;-97.3537548
END:VEVENT
END:VCALENDAR