BEGIN:VCALENDAR
VERSION:2.0
PRODID:-//Tukios.com/
BEGIN:VEVENT
UID:c5592196-3613-465e-bac1-3f1fa07ac590@www.gasshaney.com
DTSTAMP:20260425T210140Z
DTSTART:20260428T153000Z
DTEND:20260428T163000Z
SUMMARY:Funeral Service
DESCRIPTION:
URL:https://www.gasshaney.com/obituaries/ivan-wurdeman
LOCATION:Gass Haney Funeral Home 2109 14th St  Columbus NE 68601
GEO:41.4298824;-97.3537548
END:VEVENT
END:VCALENDAR