BEGIN:VCALENDAR
VERSION:2.0
PRODID:-//Tukios.com/
BEGIN:VEVENT
UID:1028a36f-3a0f-48e6-a25c-f441f89e635b@www.gasshaney.com
DTSTAMP:20260425T210211Z
DTSTART:20260428T143000Z
DTEND:20260428T153000Z
SUMMARY:Visitation
DESCRIPTION:
URL:https://www.gasshaney.com/obituaries/ivan-wurdeman
LOCATION:Gass Haney Funeral Home 2109 14th St  Columbus NE 68601
GEO:41.4298824;-97.3537548
END:VEVENT
END:VCALENDAR